BEGIN:VCALENDAR
VERSION:2.0
PRODID:-//Temple Shalom, Aberdeen NJ - ECPv6.15.20//NONSGML v1.0//EN
CALSCALE:GREGORIAN
METHOD:PUBLISH
X-ORIGINAL-URL:https://templeshalomnj.org
X-WR-CALDESC:Events for Temple Shalom, Aberdeen NJ
REFRESH-INTERVAL;VALUE=DURATION:PT1H
X-Robots-Tag:noindex
X-PUBLISHED-TTL:PT1H
BEGIN:VTIMEZONE
TZID:America/New_York
BEGIN:DAYLIGHT
TZOFFSETFROM:-0500
TZOFFSETTO:-0400
TZNAME:EDT
DTSTART:20250309T070000
END:DAYLIGHT
BEGIN:STANDARD
TZOFFSETFROM:-0400
TZOFFSETTO:-0500
TZNAME:EST
DTSTART:20251102T060000
END:STANDARD
BEGIN:DAYLIGHT
TZOFFSETFROM:-0500
TZOFFSETTO:-0400
TZNAME:EDT
DTSTART:20260308T070000
END:DAYLIGHT
BEGIN:STANDARD
TZOFFSETFROM:-0400
TZOFFSETTO:-0500
TZNAME:EST
DTSTART:20261101T060000
END:STANDARD
BEGIN:DAYLIGHT
TZOFFSETFROM:-0500
TZOFFSETTO:-0400
TZNAME:EDT
DTSTART:20270314T070000
END:DAYLIGHT
BEGIN:STANDARD
TZOFFSETFROM:-0400
TZOFFSETTO:-0500
TZNAME:EST
DTSTART:20271107T060000
END:STANDARD
END:VTIMEZONE
BEGIN:VEVENT
DTSTART;TZID=America/New_York:20260419T093000
DTEND;TZID=America/New_York:20260419T113000
DTSTAMP:20260419T112124
CREATED:20250618T160136Z
LAST-MODIFIED:20250618T160136Z
UID:10005554-1776591000-1776598200@templeshalomnj.org
SUMMARY:Religious School
DESCRIPTION:
URL:https://templeshalomnj.org/event/religious-school/2026-04-19/
CATEGORIES:Religious School
END:VEVENT
BEGIN:VEVENT
DTSTART;TZID=America/New_York:20260419T120000
DTEND;TZID=America/New_York:20260419T133000
DTSTAMP:20260419T112124
CREATED:20250618T163637Z
LAST-MODIFIED:20250618T163637Z
UID:10005580-1776600000-1776605400@templeshalomnj.org
SUMMARY:Hebrew High School
DESCRIPTION:
URL:https://templeshalomnj.org/event/hebrew-high-school-2/2026-04-19/
CATEGORIES:Hebrew High School
END:VEVENT
BEGIN:VEVENT
DTSTART;TZID=America/New_York:20260419T120000
DTEND;TZID=America/New_York:20260419T133000
DTSTAMP:20260419T112124
CREATED:20250619T125538Z
LAST-MODIFIED:20250619T125538Z
UID:10005590-1776600000-1776605400@templeshalomnj.org
SUMMARY:Post-Confirmation Class
DESCRIPTION:
URL:https://templeshalomnj.org/event/post-confirmation-class-2/2026-04-19/
CATEGORIES:Post-Confirmation
END:VEVENT
BEGIN:VEVENT
DTSTART;TZID=America/New_York:20260419T160000
DTEND;TZID=America/New_York:20260419T183000
DTSTAMP:20260419T112124
CREATED:20250606T204820Z
LAST-MODIFIED:20260418T194712Z
UID:10005442-1776614400-1776623400@templeshalomnj.org
SUMMARY:AJG & Brotherhood Program - “How Saba Kept Singing” documentary & live musical presentation
DESCRIPTION:⇒ More information can be found here.
URL:https://templeshalomnj.org/event/ajg-program-2/
CATEGORIES:Adult Education,Brotherhood
END:VEVENT
BEGIN:VEVENT
DTSTART;TZID=America/New_York:20260420T193000
DTEND;TZID=America/New_York:20260420T203000
DTSTAMP:20260419T112124
CREATED:20250108T223745Z
LAST-MODIFIED:20260418T194712Z
UID:10005061-1776713400-1776717000@templeshalomnj.org
SUMMARY:Education Mtg
DESCRIPTION:
URL:https://templeshalomnj.org/event/education-mtg-82/
END:VEVENT
BEGIN:VEVENT
DTSTART;VALUE=DATE:20260423
DTEND;VALUE=DATE:20260424
DTSTAMP:20260419T112124
CREATED:20250111T224623Z
LAST-MODIFIED:20260418T194712Z
UID:10005063-1776902400-1776988799@templeshalomnj.org
SUMMARY:TEMPLE CLOSED
DESCRIPTION:
URL:https://templeshalomnj.org/event/temple-closed-382/
END:VEVENT
BEGIN:VEVENT
DTSTART;TZID=America/New_York:20260424T190000
DTEND;TZID=America/New_York:20260424T200000
DTSTAMP:20260419T112124
CREATED:20250226T181706Z
LAST-MODIFIED:20260418T194712Z
UID:10005182-1777057200-1777060800@templeshalomnj.org
SUMMARY:Shabbat Evening Service
DESCRIPTION:
URL:https://templeshalomnj.org/event/shabbat-evening-service-248/
CATEGORIES:Worship
END:VEVENT
BEGIN:VEVENT
DTSTART;TZID=America/New_York:20260425T091500
DTEND;TZID=America/New_York:20260425T101500
DTSTAMP:20260419T112124
CREATED:20250111T224625Z
LAST-MODIFIED:20260418T194713Z
UID:10005066-1777108500-1777112100@templeshalomnj.org
SUMMARY:TEMPLE CLOSED
DESCRIPTION:
URL:https://templeshalomnj.org/event/torah-study-229/
CATEGORIES:Worship
END:VEVENT
END:VCALENDAR