BEGIN:VCALENDAR
VERSION:2.0
PRODID:-//Temple Shalom, Aberdeen NJ - ECPv6.15.20//NONSGML v1.0//EN
CALSCALE:GREGORIAN
METHOD:PUBLISH
X-ORIGINAL-URL:https://templeshalomnj.org
X-WR-CALDESC:Events for Temple Shalom, Aberdeen NJ
REFRESH-INTERVAL;VALUE=DURATION:PT1H
X-Robots-Tag:noindex
X-PUBLISHED-TTL:PT1H
BEGIN:VTIMEZONE
TZID:America/New_York
BEGIN:DAYLIGHT
TZOFFSETFROM:-0500
TZOFFSETTO:-0400
TZNAME:EDT
DTSTART:20250309T070000
END:DAYLIGHT
BEGIN:STANDARD
TZOFFSETFROM:-0400
TZOFFSETTO:-0500
TZNAME:EST
DTSTART:20251102T060000
END:STANDARD
BEGIN:DAYLIGHT
TZOFFSETFROM:-0500
TZOFFSETTO:-0400
TZNAME:EDT
DTSTART:20260308T070000
END:DAYLIGHT
BEGIN:STANDARD
TZOFFSETFROM:-0400
TZOFFSETTO:-0500
TZNAME:EST
DTSTART:20261101T060000
END:STANDARD
BEGIN:DAYLIGHT
TZOFFSETFROM:-0500
TZOFFSETTO:-0400
TZNAME:EDT
DTSTART:20270314T070000
END:DAYLIGHT
BEGIN:STANDARD
TZOFFSETFROM:-0400
TZOFFSETTO:-0500
TZNAME:EST
DTSTART:20271107T060000
END:STANDARD
END:VTIMEZONE
BEGIN:VEVENT
DTSTART;TZID=America/New_York:20261206T200000
DTEND;TZID=America/New_York:20261206T210000
DTSTAMP:20260424T012140
CREATED:20251003T202925Z
LAST-MODIFIED:20260423T204728Z
UID:10005634-1796587200-1796590800@templeshalomnj.org
SUMMARY:Brotherhood Mtg
DESCRIPTION:
URL:https://templeshalomnj.org/event/brotherhood-mtg-74/
END:VEVENT
BEGIN:VEVENT
DTSTART;TZID=America/New_York:20261208T193000
DTEND;TZID=America/New_York:20261208T203000
DTSTAMP:20260424T012140
CREATED:20251003T202925Z
LAST-MODIFIED:20260423T204728Z
UID:10005635-1796758200-1796761800@templeshalomnj.org
SUMMARY:Board Mtg
DESCRIPTION:
URL:https://templeshalomnj.org/event/board-mtg-66/
END:VEVENT
BEGIN:VEVENT
DTSTART;VALUE=DATE:20261210
DTEND;VALUE=DATE:20261211
DTSTAMP:20260424T012140
CREATED:20251003T202926Z
LAST-MODIFIED:20260423T204728Z
UID:10005636-1796860800-1796947199@templeshalomnj.org
SUMMARY:TEMPLE CLOSED
DESCRIPTION:
URL:https://templeshalomnj.org/event/temple-closed-444/
END:VEVENT
BEGIN:VEVENT
DTSTART;TZID=America/New_York:20261211T190000
DTEND;TZID=America/New_York:20261211T200000
DTSTAMP:20260424T012140
CREATED:20251003T202929Z
LAST-MODIFIED:20260423T204728Z
UID:10005637-1797015600-1797019200@templeshalomnj.org
SUMMARY:Shabbat Evening Service
DESCRIPTION:
URL:https://templeshalomnj.org/event/shabbat-evening-service-272/
END:VEVENT
BEGIN:VEVENT
DTSTART;TZID=America/New_York:20261212T091500
DTEND;TZID=America/New_York:20261212T101500
DTSTAMP:20260424T012140
CREATED:20251003T202929Z
LAST-MODIFIED:20260423T204728Z
UID:10005638-1797066900-1797070500@templeshalomnj.org
SUMMARY:Torah Study
DESCRIPTION:
URL:https://templeshalomnj.org/event/torah-study-262/
END:VEVENT
BEGIN:VEVENT
DTSTART;TZID=America/New_York:20261212T103000
DTEND;TZID=America/New_York:20261212T113000
DTSTAMP:20260424T012140
CREATED:20251003T202930Z
LAST-MODIFIED:20260423T204728Z
UID:10005639-1797071400-1797075000@templeshalomnj.org
SUMMARY:Learner's Shabbat Service
DESCRIPTION:
URL:https://templeshalomnj.org/event/learners-shabbat-service-235/
END:VEVENT
END:VCALENDAR