BEGIN:VCALENDAR
VERSION:2.0
PRODID:-//Temple Shalom, Aberdeen NJ - ECPv6.15.20//NONSGML v1.0//EN
CALSCALE:GREGORIAN
METHOD:PUBLISH
X-WR-CALNAME:Temple Shalom, Aberdeen NJ
X-ORIGINAL-URL:https://templeshalomnj.org
X-WR-CALDESC:Events for Temple Shalom, Aberdeen NJ
REFRESH-INTERVAL;VALUE=DURATION:PT1H
X-Robots-Tag:noindex
X-PUBLISHED-TTL:PT1H
BEGIN:VTIMEZONE
TZID:America/New_York
BEGIN:DAYLIGHT
TZOFFSETFROM:-0500
TZOFFSETTO:-0400
TZNAME:EDT
DTSTART:20250309T070000
END:DAYLIGHT
BEGIN:STANDARD
TZOFFSETFROM:-0400
TZOFFSETTO:-0500
TZNAME:EST
DTSTART:20251102T060000
END:STANDARD
BEGIN:DAYLIGHT
TZOFFSETFROM:-0500
TZOFFSETTO:-0400
TZNAME:EDT
DTSTART:20260308T070000
END:DAYLIGHT
BEGIN:STANDARD
TZOFFSETFROM:-0400
TZOFFSETTO:-0500
TZNAME:EST
DTSTART:20261101T060000
END:STANDARD
BEGIN:DAYLIGHT
TZOFFSETFROM:-0500
TZOFFSETTO:-0400
TZNAME:EDT
DTSTART:20270314T070000
END:DAYLIGHT
BEGIN:STANDARD
TZOFFSETFROM:-0400
TZOFFSETTO:-0500
TZNAME:EST
DTSTART:20271107T060000
END:STANDARD
END:VTIMEZONE
BEGIN:VEVENT
DTSTART;TZID=America/New_York:20261019T193000
DTEND;TZID=America/New_York:20261019T203000
DTSTAMP:20260425T163938
CREATED:20250505T220602Z
LAST-MODIFIED:20260424T210224Z
UID:10005305-1792438200-1792441800@templeshalomnj.org
SUMMARY:Education Mtg
DESCRIPTION:
URL:https://templeshalomnj.org/event/education-mtg-88/
END:VEVENT
BEGIN:VEVENT
DTSTART;TZID=America/New_York:20261020T193000
DTEND;TZID=America/New_York:20261020T203000
DTSTAMP:20260425T163938
CREATED:20250505T220603Z
LAST-MODIFIED:20260424T210225Z
UID:10005306-1792524600-1792528200@templeshalomnj.org
SUMMARY:AJG program/movie - In Person
DESCRIPTION:
URL:https://templeshalomnj.org/event/ajg-program-movie-in-person-39/
CATEGORIES:Adult Education
END:VEVENT
BEGIN:VEVENT
DTSTART;TZID=America/New_York:20261021T190000
DTEND;TZID=America/New_York:20261021T200000
DTSTAMP:20260425T163938
CREATED:20250505T220603Z
LAST-MODIFIED:20260424T210225Z
UID:10005307-1792609200-1792612800@templeshalomnj.org
SUMMARY:Membership Mtg
DESCRIPTION:
URL:https://templeshalomnj.org/event/membership-mtg-55/
END:VEVENT
BEGIN:VEVENT
DTSTART;VALUE=DATE:20261022
DTEND;VALUE=DATE:20261023
DTSTAMP:20260425T163938
CREATED:20250505T220603Z
LAST-MODIFIED:20260424T210225Z
UID:10005308-1792627200-1792713599@templeshalomnj.org
SUMMARY:TEMPLE CLOSED
DESCRIPTION:
URL:https://templeshalomnj.org/event/temple-closed-410/
END:VEVENT
BEGIN:VEVENT
DTSTART;TZID=America/New_York:20261022T193000
DTEND;TZID=America/New_York:20261022T203000
DTSTAMP:20260425T163938
CREATED:20250506T224217Z
LAST-MODIFIED:20260424T210225Z
UID:10005309-1792697400-1792701000@templeshalomnj.org
SUMMARY:Caring Committee Meeting
DESCRIPTION:
URL:https://templeshalomnj.org/event/caring-committee-meeting-33/
CATEGORIES:Caring Committee
END:VEVENT
BEGIN:VEVENT
DTSTART;TZID=America/New_York:20261023T190000
DTEND;TZID=America/New_York:20261023T200000
DTSTAMP:20260425T163938
CREATED:20250508T222932Z
LAST-MODIFIED:20260424T210225Z
UID:10005310-1792782000-1792785600@templeshalomnj.org
SUMMARY:Shabbat Evening Service
DESCRIPTION:
URL:https://templeshalomnj.org/event/shabbat-evening-service-267/
CATEGORIES:Worship
END:VEVENT
BEGIN:VEVENT
DTSTART;TZID=America/New_York:20261024T091500
DTEND;TZID=America/New_York:20261024T101500
DTSTAMP:20260425T163938
CREATED:20250512T202922Z
LAST-MODIFIED:20260424T210225Z
UID:10005313-1792833300-1792836900@templeshalomnj.org
SUMMARY:Torah Study
DESCRIPTION:
URL:https://templeshalomnj.org/event/torah-study-255/
CATEGORIES:Worship
END:VEVENT
BEGIN:VEVENT
DTSTART;TZID=America/New_York:20261024T103000
DTEND;TZID=America/New_York:20261024T113000
DTSTAMP:20260425T163938
CREATED:20250512T202922Z
LAST-MODIFIED:20260424T210225Z
UID:10005314-1792837800-1792841400@templeshalomnj.org
SUMMARY:Learner's Shabbat Service
DESCRIPTION:
URL:https://templeshalomnj.org/event/learners-shabbat-service-228/
CATEGORIES:Worship
END:VEVENT
END:VCALENDAR