BEGIN:VCALENDAR
VERSION:2.0
PRODID:-//Temple Shalom, Aberdeen NJ - ECPv6.15.20//NONSGML v1.0//EN
CALSCALE:GREGORIAN
METHOD:PUBLISH
X-ORIGINAL-URL:https://templeshalomnj.org
X-WR-CALDESC:Events for Temple Shalom, Aberdeen NJ
REFRESH-INTERVAL;VALUE=DURATION:PT1H
X-Robots-Tag:noindex
X-PUBLISHED-TTL:PT1H
BEGIN:VTIMEZONE
TZID:America/New_York
BEGIN:DAYLIGHT
TZOFFSETFROM:-0500
TZOFFSETTO:-0400
TZNAME:EDT
DTSTART:20250309T070000
END:DAYLIGHT
BEGIN:STANDARD
TZOFFSETFROM:-0400
TZOFFSETTO:-0500
TZNAME:EST
DTSTART:20251102T060000
END:STANDARD
BEGIN:DAYLIGHT
TZOFFSETFROM:-0500
TZOFFSETTO:-0400
TZNAME:EDT
DTSTART:20260308T070000
END:DAYLIGHT
BEGIN:STANDARD
TZOFFSETFROM:-0400
TZOFFSETTO:-0500
TZNAME:EST
DTSTART:20261101T060000
END:STANDARD
BEGIN:DAYLIGHT
TZOFFSETFROM:-0500
TZOFFSETTO:-0400
TZNAME:EDT
DTSTART:20270314T070000
END:DAYLIGHT
BEGIN:STANDARD
TZOFFSETFROM:-0400
TZOFFSETTO:-0500
TZNAME:EST
DTSTART:20271107T060000
END:STANDARD
END:VTIMEZONE
BEGIN:VEVENT
DTSTART;TZID=America/New_York:20261013T193000
DTEND;TZID=America/New_York:20261013T203000
DTSTAMP:20260425T151726
CREATED:20250505T220557Z
LAST-MODIFIED:20260424T210224Z
UID:10005300-1791919800-1791923400@templeshalomnj.org
SUMMARY:Board Mtg
DESCRIPTION:
URL:https://templeshalomnj.org/event/board-mtg-64/
END:VEVENT
BEGIN:VEVENT
DTSTART;VALUE=DATE:20261015
DTEND;VALUE=DATE:20261016
DTSTAMP:20260425T151726
CREATED:20250505T220558Z
LAST-MODIFIED:20260424T210224Z
UID:10005301-1792022400-1792108799@templeshalomnj.org
SUMMARY:TEMPLE CLOSED
DESCRIPTION:
URL:https://templeshalomnj.org/event/temple-closed-409/
END:VEVENT
BEGIN:VEVENT
DTSTART;TZID=America/New_York:20261016T190000
DTEND;TZID=America/New_York:20261016T200000
DTSTAMP:20260425T151726
CREATED:20250505T220558Z
LAST-MODIFIED:20260424T210224Z
UID:10005302-1792177200-1792180800@templeshalomnj.org
SUMMARY:Shabbat Evening Service
DESCRIPTION:
URL:https://templeshalomnj.org/event/shabbat-evening-service-266/
CATEGORIES:Worship
END:VEVENT
BEGIN:VEVENT
DTSTART;TZID=America/New_York:20261017T091500
DTEND;TZID=America/New_York:20261017T101500
DTSTAMP:20260425T151726
CREATED:20250505T220559Z
LAST-MODIFIED:20260424T210224Z
UID:10005303-1792228500-1792232100@templeshalomnj.org
SUMMARY:Torah Study
DESCRIPTION:
URL:https://templeshalomnj.org/event/torah-study-254/
CATEGORIES:Worship
END:VEVENT
BEGIN:VEVENT
DTSTART;TZID=America/New_York:20261017T103000
DTEND;TZID=America/New_York:20261017T113000
DTSTAMP:20260425T151726
CREATED:20250505T220602Z
LAST-MODIFIED:20260424T210224Z
UID:10005304-1792233000-1792236600@templeshalomnj.org
SUMMARY:Learner's Shabbat Service
DESCRIPTION:
URL:https://templeshalomnj.org/event/learners-shabbat-service-227/
CATEGORIES:Worship
END:VEVENT
END:VCALENDAR