BEGIN:VCALENDAR
VERSION:2.0
PRODID:-//Temple Shalom, Aberdeen NJ - ECPv6.15.20//NONSGML v1.0//EN
CALSCALE:GREGORIAN
METHOD:PUBLISH
X-WR-CALNAME:Temple Shalom, Aberdeen NJ
X-ORIGINAL-URL:https://templeshalomnj.org
X-WR-CALDESC:Events for Temple Shalom, Aberdeen NJ
REFRESH-INTERVAL;VALUE=DURATION:PT1H
X-Robots-Tag:noindex
X-PUBLISHED-TTL:PT1H
BEGIN:VTIMEZONE
TZID:America/New_York
BEGIN:DAYLIGHT
TZOFFSETFROM:-0500
TZOFFSETTO:-0400
TZNAME:EDT
DTSTART:20250309T070000
END:DAYLIGHT
BEGIN:STANDARD
TZOFFSETFROM:-0400
TZOFFSETTO:-0500
TZNAME:EST
DTSTART:20251102T060000
END:STANDARD
BEGIN:DAYLIGHT
TZOFFSETFROM:-0500
TZOFFSETTO:-0400
TZNAME:EDT
DTSTART:20260308T070000
END:DAYLIGHT
BEGIN:STANDARD
TZOFFSETFROM:-0400
TZOFFSETTO:-0500
TZNAME:EST
DTSTART:20261101T060000
END:STANDARD
BEGIN:DAYLIGHT
TZOFFSETFROM:-0500
TZOFFSETTO:-0400
TZNAME:EDT
DTSTART:20270314T070000
END:DAYLIGHT
BEGIN:STANDARD
TZOFFSETFROM:-0400
TZOFFSETTO:-0500
TZNAME:EST
DTSTART:20271107T060000
END:STANDARD
END:VTIMEZONE
BEGIN:VEVENT
DTSTART;TZID=America/New_York:20261004T200000
DTEND;TZID=America/New_York:20261004T210000
DTSTAMP:20260425T134026
CREATED:20250428T203528Z
LAST-MODIFIED:20260424T210223Z
UID:10005292-1791144000-1791147600@templeshalomnj.org
SUMMARY:Brotherhood Mtg
DESCRIPTION:
URL:https://templeshalomnj.org/event/brotherhood-mtg-72/
CATEGORIES:Brotherhood
END:VEVENT
BEGIN:VEVENT
DTSTART;TZID=America/New_York:20261006T193000
DTEND;TZID=America/New_York:20261006T203000
DTSTAMP:20260425T134026
CREATED:20250428T203528Z
LAST-MODIFIED:20260424T210223Z
UID:10005293-1791315000-1791318600@templeshalomnj.org
SUMMARY:PAC Meeting
DESCRIPTION:
URL:https://templeshalomnj.org/event/pac-meeting-66/
END:VEVENT
BEGIN:VEVENT
DTSTART;TZID=America/New_York:20261007T193000
DTEND;TZID=America/New_York:20261007T203000
DTSTAMP:20260425T134026
CREATED:20250428T203528Z
LAST-MODIFIED:20260424T210223Z
UID:10005294-1791401400-1791405000@templeshalomnj.org
SUMMARY:AJG Monthly Meeting
DESCRIPTION:
URL:https://templeshalomnj.org/event/ajg-monthly-meeting-34/
CATEGORIES:Adult Education
END:VEVENT
BEGIN:VEVENT
DTSTART;VALUE=DATE:20261008
DTEND;VALUE=DATE:20261009
DTSTAMP:20260425T134026
CREATED:20250428T203529Z
LAST-MODIFIED:20260424T210224Z
UID:10005295-1791417600-1791503999@templeshalomnj.org
SUMMARY:TEMPLE CLOSED
DESCRIPTION:
URL:https://templeshalomnj.org/event/temple-closed-407/
END:VEVENT
BEGIN:VEVENT
DTSTART;TZID=America/New_York:20261009T190000
DTEND;TZID=America/New_York:20261009T200000
DTSTAMP:20260425T134026
CREATED:20250430T214929Z
LAST-MODIFIED:20260424T210224Z
UID:10005297-1791572400-1791576000@templeshalomnj.org
SUMMARY:Shabbat Evening Service
DESCRIPTION:
URL:https://templeshalomnj.org/event/shabbat-evening-service-265/
CATEGORIES:Worship
END:VEVENT
BEGIN:VEVENT
DTSTART;TZID=America/New_York:20261010T091500
DTEND;TZID=America/New_York:20261010T101500
DTSTAMP:20260425T134026
CREATED:20250505T220554Z
LAST-MODIFIED:20260424T210224Z
UID:10005298-1791623700-1791627300@templeshalomnj.org
SUMMARY:Torah Study
DESCRIPTION:
URL:https://templeshalomnj.org/event/torah-study-253/
CATEGORIES:Worship
END:VEVENT
BEGIN:VEVENT
DTSTART;TZID=America/New_York:20261010T103000
DTEND;TZID=America/New_York:20261010T113000
DTSTAMP:20260425T134026
CREATED:20250505T220557Z
LAST-MODIFIED:20260424T210224Z
UID:10005299-1791628200-1791631800@templeshalomnj.org
SUMMARY:Learner's Shabbat Service
DESCRIPTION:
URL:https://templeshalomnj.org/event/learners-shabbat-service-226/
CATEGORIES:Worship
END:VEVENT
END:VCALENDAR