BEGIN:VCALENDAR
VERSION:2.0
PRODID:-//Temple Shalom, Aberdeen NJ - ECPv6.15.20//NONSGML v1.0//EN
CALSCALE:GREGORIAN
METHOD:PUBLISH
X-WR-CALNAME:Temple Shalom, Aberdeen NJ
X-ORIGINAL-URL:https://templeshalomnj.org
X-WR-CALDESC:Events for Temple Shalom, Aberdeen NJ
REFRESH-INTERVAL;VALUE=DURATION:PT1H
X-Robots-Tag:noindex
X-PUBLISHED-TTL:PT1H
BEGIN:VTIMEZONE
TZID:America/New_York
BEGIN:DAYLIGHT
TZOFFSETFROM:-0500
TZOFFSETTO:-0400
TZNAME:EDT
DTSTART:20250309T070000
END:DAYLIGHT
BEGIN:STANDARD
TZOFFSETFROM:-0400
TZOFFSETTO:-0500
TZNAME:EST
DTSTART:20251102T060000
END:STANDARD
BEGIN:DAYLIGHT
TZOFFSETFROM:-0500
TZOFFSETTO:-0400
TZNAME:EDT
DTSTART:20260308T070000
END:DAYLIGHT
BEGIN:STANDARD
TZOFFSETFROM:-0400
TZOFFSETTO:-0500
TZNAME:EST
DTSTART:20261101T060000
END:STANDARD
BEGIN:DAYLIGHT
TZOFFSETFROM:-0500
TZOFFSETTO:-0400
TZNAME:EDT
DTSTART:20270314T070000
END:DAYLIGHT
BEGIN:STANDARD
TZOFFSETFROM:-0400
TZOFFSETTO:-0500
TZNAME:EST
DTSTART:20271107T060000
END:STANDARD
END:VTIMEZONE
BEGIN:VEVENT
DTSTART;TZID=America/New_York:20260728T193000
DTEND;TZID=America/New_York:20260728T203000
DTSTAMP:20260423T150354
CREATED:20250316T201618Z
LAST-MODIFIED:20260422T203516Z
UID:10005221-1785267000-1785270600@templeshalomnj.org
SUMMARY:Worship Meeting
DESCRIPTION:
URL:https://templeshalomnj.org/event/worship-meeting-61/
END:VEVENT
BEGIN:VEVENT
DTSTART;VALUE=DATE:20260730
DTEND;VALUE=DATE:20260731
DTSTAMP:20260423T150354
CREATED:20250316T201618Z
LAST-MODIFIED:20260422T203516Z
UID:10005222-1785369600-1785455999@templeshalomnj.org
SUMMARY:TEMPLE CLOSED
DESCRIPTION:
URL:https://templeshalomnj.org/event/temple-closed-397/
END:VEVENT
BEGIN:VEVENT
DTSTART;TZID=America/New_York:20260731T190000
DTEND;TZID=America/New_York:20260731T200000
DTSTAMP:20260423T150354
CREATED:20250316T201619Z
LAST-MODIFIED:20260422T203516Z
UID:10005223-1785524400-1785528000@templeshalomnj.org
SUMMARY:Shabbat Evening Service
DESCRIPTION:
URL:https://templeshalomnj.org/event/shabbat-evening-service-259/
CATEGORIES:Worship
END:VEVENT
BEGIN:VEVENT
DTSTART;TZID=America/New_York:20260801T091500
DTEND;TZID=America/New_York:20260801T101500
DTSTAMP:20260423T150354
CREATED:20250316T201619Z
LAST-MODIFIED:20260422T203516Z
UID:10005224-1785575700-1785579300@templeshalomnj.org
SUMMARY:Torah Study
DESCRIPTION:
URL:https://templeshalomnj.org/event/torah-study-243/
CATEGORIES:Worship
END:VEVENT
BEGIN:VEVENT
DTSTART;TZID=America/New_York:20260801T103000
DTEND;TZID=America/New_York:20260801T113000
DTSTAMP:20260423T150354
CREATED:20250316T201620Z
LAST-MODIFIED:20260422T203516Z
UID:10005225-1785580200-1785583800@templeshalomnj.org
SUMMARY:Learner's Shabbat Service
DESCRIPTION:
URL:https://templeshalomnj.org/event/learners-shabbat-service-216/
CATEGORIES:Worship
END:VEVENT
END:VCALENDAR