BEGIN:VCALENDAR
VERSION:2.0
PRODID:-//Temple Shalom, Aberdeen NJ - ECPv6.15.20//NONSGML v1.0//EN
CALSCALE:GREGORIAN
METHOD:PUBLISH
X-WR-CALNAME:Temple Shalom, Aberdeen NJ
X-ORIGINAL-URL:https://templeshalomnj.org
X-WR-CALDESC:Events for Temple Shalom, Aberdeen NJ
REFRESH-INTERVAL;VALUE=DURATION:PT1H
X-Robots-Tag:noindex
X-PUBLISHED-TTL:PT1H
BEGIN:VTIMEZONE
TZID:America/New_York
BEGIN:DAYLIGHT
TZOFFSETFROM:-0500
TZOFFSETTO:-0400
TZNAME:EDT
DTSTART:20250309T070000
END:DAYLIGHT
BEGIN:STANDARD
TZOFFSETFROM:-0400
TZOFFSETTO:-0500
TZNAME:EST
DTSTART:20251102T060000
END:STANDARD
BEGIN:DAYLIGHT
TZOFFSETFROM:-0500
TZOFFSETTO:-0400
TZNAME:EDT
DTSTART:20260308T070000
END:DAYLIGHT
BEGIN:STANDARD
TZOFFSETFROM:-0400
TZOFFSETTO:-0500
TZNAME:EST
DTSTART:20261101T060000
END:STANDARD
BEGIN:DAYLIGHT
TZOFFSETFROM:-0500
TZOFFSETTO:-0400
TZNAME:EDT
DTSTART:20270314T070000
END:DAYLIGHT
BEGIN:STANDARD
TZOFFSETFROM:-0400
TZOFFSETTO:-0500
TZNAME:EST
DTSTART:20271107T060000
END:STANDARD
END:VTIMEZONE
BEGIN:VEVENT
DTSTART;TZID=America/New_York:20260622T190000
DTEND;TZID=America/New_York:20260622T210000
DTSTAMP:20260423T132952
CREATED:20250611T210944Z
LAST-MODIFIED:20260422T203513Z
UID:10005473-1782154800-1782162000@templeshalomnj.org
SUMMARY:Book Club
DESCRIPTION:
URL:https://templeshalomnj.org/event/book-club-6/
END:VEVENT
BEGIN:VEVENT
DTSTART;TZID=America/New_York:20260623T193000
DTEND;TZID=America/New_York:20260623T203000
DTSTAMP:20260423T132952
CREATED:20250223T181752Z
LAST-MODIFIED:20260422T203513Z
UID:10005130-1782243000-1782246600@templeshalomnj.org
SUMMARY:Worship Meeting
DESCRIPTION:
URL:https://templeshalomnj.org/event/worship-meeting-60/
END:VEVENT
BEGIN:VEVENT
DTSTART;VALUE=DATE:20260625
DTEND;VALUE=DATE:20260626
DTSTAMP:20260423T132952
CREATED:20250226T181750Z
LAST-MODIFIED:20260422T203513Z
UID:10005189-1782345600-1782431999@templeshalomnj.org
SUMMARY:TEMPLE CLOSED
DESCRIPTION:
URL:https://templeshalomnj.org/event/temple-closed-392/
END:VEVENT
BEGIN:VEVENT
DTSTART;TZID=America/New_York:20260625T193000
DTEND;TZID=America/New_York:20260625T203000
DTSTAMP:20260423T132952
CREATED:20250225T181806Z
LAST-MODIFIED:20260422T203513Z
UID:10005131-1782415800-1782419400@templeshalomnj.org
SUMMARY:Caring Committee Meeting
DESCRIPTION:
URL:https://templeshalomnj.org/event/caring-committee-meeting-29/
CATEGORIES:Caring Committee
END:VEVENT
BEGIN:VEVENT
DTSTART;TZID=America/New_York:20260626T190000
DTEND;TZID=America/New_York:20260626T200000
DTSTAMP:20260423T132952
CREATED:20250226T181750Z
LAST-MODIFIED:20260422T203513Z
UID:10005190-1782500400-1782504000@templeshalomnj.org
SUMMARY:Shabbat Evening Service
DESCRIPTION:
URL:https://templeshalomnj.org/event/shabbat-evening-service-255/
CATEGORIES:Worship
END:VEVENT
BEGIN:VEVENT
DTSTART;TZID=America/New_York:20260627T091500
DTEND;TZID=America/New_York:20260627T101500
DTSTAMP:20260423T132952
CREATED:20250226T181751Z
LAST-MODIFIED:20260422T203514Z
UID:10005191-1782551700-1782555300@templeshalomnj.org
SUMMARY:Torah Study
DESCRIPTION:
URL:https://templeshalomnj.org/event/torah-study-238/
CATEGORIES:Worship
END:VEVENT
BEGIN:VEVENT
DTSTART;TZID=America/New_York:20260627T103000
DTEND;TZID=America/New_York:20260627T113000
DTSTAMP:20260423T132952
CREATED:20250226T181751Z
LAST-MODIFIED:20260422T203514Z
UID:10005192-1782556200-1782559800@templeshalomnj.org
SUMMARY:Learner's Shabbat Service
DESCRIPTION:
URL:https://templeshalomnj.org/event/learners-shabbat-service-211/
CATEGORIES:Worship
END:VEVENT
END:VCALENDAR