BEGIN:VCALENDAR
VERSION:2.0
PRODID:-//Temple Shalom, Aberdeen NJ - ECPv6.15.20//NONSGML v1.0//EN
CALSCALE:GREGORIAN
METHOD:PUBLISH
X-WR-CALNAME:Temple Shalom, Aberdeen NJ
X-ORIGINAL-URL:https://templeshalomnj.org
X-WR-CALDESC:Events for Temple Shalom, Aberdeen NJ
REFRESH-INTERVAL;VALUE=DURATION:PT1H
X-Robots-Tag:noindex
X-PUBLISHED-TTL:PT1H
BEGIN:VTIMEZONE
TZID:America/New_York
BEGIN:DAYLIGHT
TZOFFSETFROM:-0500
TZOFFSETTO:-0400
TZNAME:EDT
DTSTART:20250309T070000
END:DAYLIGHT
BEGIN:STANDARD
TZOFFSETFROM:-0400
TZOFFSETTO:-0500
TZNAME:EST
DTSTART:20251102T060000
END:STANDARD
BEGIN:DAYLIGHT
TZOFFSETFROM:-0500
TZOFFSETTO:-0400
TZNAME:EDT
DTSTART:20260308T070000
END:DAYLIGHT
BEGIN:STANDARD
TZOFFSETFROM:-0400
TZOFFSETTO:-0500
TZNAME:EST
DTSTART:20261101T060000
END:STANDARD
BEGIN:DAYLIGHT
TZOFFSETFROM:-0500
TZOFFSETTO:-0400
TZNAME:EDT
DTSTART:20270314T070000
END:DAYLIGHT
BEGIN:STANDARD
TZOFFSETFROM:-0400
TZOFFSETTO:-0500
TZNAME:EST
DTSTART:20271107T060000
END:STANDARD
END:VTIMEZONE
BEGIN:VEVENT
DTSTART;TZID=America/New_York:20260209T160000
DTEND;TZID=America/New_York:20260209T180000
DTSTAMP:20260422T090007
CREATED:20250618T154019Z
LAST-MODIFIED:20250618T154235Z
UID:10005523-1770652800-1770660000@templeshalomnj.org
SUMMARY:Hebrew Enhancement
DESCRIPTION:
URL:https://templeshalomnj.org/event/hebrew-enhancement-50/2026-02-09/
CATEGORIES:Hebrew Enhancement
END:VEVENT
BEGIN:VEVENT
DTSTART;TZID=America/New_York:20260222T093000
DTEND;TZID=America/New_York:20260222T113000
DTSTAMP:20260422T090007
CREATED:20250617T185329Z
LAST-MODIFIED:20250617T185329Z
UID:10005495-1771752600-1771759800@templeshalomnj.org
SUMMARY:Camp Shalom
DESCRIPTION:
URL:https://templeshalomnj.org/event/camp-shalom-52/2026-02-22/
CATEGORIES:Camp Shalom
END:VEVENT
BEGIN:VEVENT
DTSTART;TZID=America/New_York:20260222T093000
DTEND;TZID=America/New_York:20260222T113000
DTSTAMP:20260422T090007
CREATED:20250618T160136Z
LAST-MODIFIED:20250618T160136Z
UID:10005548-1771752600-1771759800@templeshalomnj.org
SUMMARY:Religious School
DESCRIPTION:
URL:https://templeshalomnj.org/event/religious-school/2026-02-22/
CATEGORIES:Religious School
END:VEVENT
BEGIN:VEVENT
DTSTART;TZID=America/New_York:20260222T120000
DTEND;TZID=America/New_York:20260222T133000
DTSTAMP:20260422T090007
CREATED:20250618T163637Z
LAST-MODIFIED:20250618T163637Z
UID:10005574-1771761600-1771767000@templeshalomnj.org
SUMMARY:Hebrew High School
DESCRIPTION:
URL:https://templeshalomnj.org/event/hebrew-high-school-2/2026-02-22/
CATEGORIES:Hebrew High School
END:VEVENT
BEGIN:VEVENT
DTSTART;TZID=America/New_York:20260223T160000
DTEND;TZID=America/New_York:20260223T180000
DTSTAMP:20260422T090007
CREATED:20250618T154019Z
LAST-MODIFIED:20250618T154235Z
UID:10005524-1771862400-1771869600@templeshalomnj.org
SUMMARY:Hebrew Enhancement
DESCRIPTION:
URL:https://templeshalomnj.org/event/hebrew-enhancement-50/2026-02-23/
CATEGORIES:Hebrew Enhancement
END:VEVENT
BEGIN:VEVENT
DTSTART;TZID=America/New_York:20260301T093000
DTEND;TZID=America/New_York:20260301T103000
DTSTAMP:20260422T090007
CREATED:20250617T182229Z
LAST-MODIFIED:20250617T182229Z
UID:10005481-1772357400-1772361000@templeshalomnj.org
SUMMARY:Torah Tots
DESCRIPTION:
URL:https://templeshalomnj.org/event/torah-tots-12/2026-03-01/
CATEGORIES:Torah Tots
END:VEVENT
BEGIN:VEVENT
DTSTART;TZID=America/New_York:20260301T093000
DTEND;TZID=America/New_York:20260301T113000
DTSTAMP:20260422T090007
CREATED:20250617T185329Z
LAST-MODIFIED:20250617T185329Z
UID:10005496-1772357400-1772364600@templeshalomnj.org
SUMMARY:Camp Shalom
DESCRIPTION:
URL:https://templeshalomnj.org/event/camp-shalom-52/2026-03-01/
CATEGORIES:Camp Shalom
END:VEVENT
BEGIN:VEVENT
DTSTART;TZID=America/New_York:20260301T093000
DTEND;TZID=America/New_York:20260301T113000
DTSTAMP:20260422T090007
CREATED:20250618T160136Z
LAST-MODIFIED:20250618T160136Z
UID:10005549-1772357400-1772364600@templeshalomnj.org
SUMMARY:Religious School
DESCRIPTION:
URL:https://templeshalomnj.org/event/religious-school/2026-03-01/
CATEGORIES:Religious School
END:VEVENT
BEGIN:VEVENT
DTSTART;TZID=America/New_York:20260301T120000
DTEND;TZID=America/New_York:20260301T133000
DTSTAMP:20260422T090007
CREATED:20250618T163637Z
LAST-MODIFIED:20250618T163637Z
UID:10005575-1772366400-1772371800@templeshalomnj.org
SUMMARY:Hebrew High School
DESCRIPTION:
URL:https://templeshalomnj.org/event/hebrew-high-school-2/2026-03-01/
CATEGORIES:Hebrew High School
END:VEVENT
BEGIN:VEVENT
DTSTART;TZID=America/New_York:20260302T160000
DTEND;TZID=America/New_York:20260302T180000
DTSTAMP:20260422T090007
CREATED:20250618T154019Z
LAST-MODIFIED:20250618T154235Z
UID:10005525-1772467200-1772474400@templeshalomnj.org
SUMMARY:Hebrew Enhancement
DESCRIPTION:
URL:https://templeshalomnj.org/event/hebrew-enhancement-50/2026-03-02/
CATEGORIES:Hebrew Enhancement
END:VEVENT
BEGIN:VEVENT
DTSTART;TZID=America/New_York:20260308T093000
DTEND;TZID=America/New_York:20260308T113000
DTSTAMP:20260422T090007
CREATED:20250618T160136Z
LAST-MODIFIED:20250618T160136Z
UID:10005550-1772962200-1772969400@templeshalomnj.org
SUMMARY:Religious School
DESCRIPTION:
URL:https://templeshalomnj.org/event/religious-school/2026-03-08/
CATEGORIES:Religious School
END:VEVENT
BEGIN:VEVENT
DTSTART;TZID=America/New_York:20260308T120000
DTEND;TZID=America/New_York:20260308T133000
DTSTAMP:20260422T090007
CREATED:20250618T163637Z
LAST-MODIFIED:20250618T163637Z
UID:10005576-1772971200-1772976600@templeshalomnj.org
SUMMARY:Hebrew High School
DESCRIPTION:
URL:https://templeshalomnj.org/event/hebrew-high-school-2/2026-03-08/
CATEGORIES:Hebrew High School
END:VEVENT
BEGIN:VEVENT
DTSTART;TZID=America/New_York:20260309T160000
DTEND;TZID=America/New_York:20260309T180000
DTSTAMP:20260422T090007
CREATED:20250618T154019Z
LAST-MODIFIED:20250618T154235Z
UID:10005526-1773072000-1773079200@templeshalomnj.org
SUMMARY:Hebrew Enhancement
DESCRIPTION:
URL:https://templeshalomnj.org/event/hebrew-enhancement-50/2026-03-09/
CATEGORIES:Hebrew Enhancement
END:VEVENT
BEGIN:VEVENT
DTSTART;TZID=America/New_York:20260315T093000
DTEND;TZID=America/New_York:20260315T113000
DTSTAMP:20260422T090007
CREATED:20250618T160136Z
LAST-MODIFIED:20250618T160136Z
UID:10005551-1773567000-1773574200@templeshalomnj.org
SUMMARY:Religious School
DESCRIPTION:
URL:https://templeshalomnj.org/event/religious-school/2026-03-15/
CATEGORIES:Religious School
END:VEVENT
BEGIN:VEVENT
DTSTART;TZID=America/New_York:20260315T120000
DTEND;TZID=America/New_York:20260315T133000
DTSTAMP:20260422T090007
CREATED:20250618T163637Z
LAST-MODIFIED:20250618T163637Z
UID:10005577-1773576000-1773581400@templeshalomnj.org
SUMMARY:Hebrew High School
DESCRIPTION:
URL:https://templeshalomnj.org/event/hebrew-high-school-2/2026-03-15/
CATEGORIES:Hebrew High School
END:VEVENT
BEGIN:VEVENT
DTSTART;TZID=America/New_York:20260316T160000
DTEND;TZID=America/New_York:20260316T180000
DTSTAMP:20260422T090007
CREATED:20250618T154019Z
LAST-MODIFIED:20250618T154235Z
UID:10005527-1773676800-1773684000@templeshalomnj.org
SUMMARY:Hebrew Enhancement
DESCRIPTION:
URL:https://templeshalomnj.org/event/hebrew-enhancement-50/2026-03-16/
CATEGORIES:Hebrew Enhancement
END:VEVENT
BEGIN:VEVENT
DTSTART;TZID=America/New_York:20260322T093000
DTEND;TZID=America/New_York:20260322T103000
DTSTAMP:20260422T090007
CREATED:20260323T010616Z
LAST-MODIFIED:20260323T010616Z
UID:10005482-1774171800-1774175400@templeshalomnj.org
SUMMARY:Torah Tots
DESCRIPTION:Information on Torah Tots can be found here.
URL:https://templeshalomnj.org/event/torah-tots-12-3/2026-03-22/
CATEGORIES:Torah Tots
END:VEVENT
BEGIN:VEVENT
DTSTART;TZID=America/New_York:20260322T093000
DTEND;TZID=America/New_York:20260322T113000
DTSTAMP:20260422T090007
CREATED:20250617T185329Z
LAST-MODIFIED:20250617T185329Z
UID:10005497-1774171800-1774179000@templeshalomnj.org
SUMMARY:Camp Shalom
DESCRIPTION:
URL:https://templeshalomnj.org/event/camp-shalom-52/2026-03-22/
CATEGORIES:Camp Shalom
END:VEVENT
BEGIN:VEVENT
DTSTART;TZID=America/New_York:20260322T093000
DTEND;TZID=America/New_York:20260322T113000
DTSTAMP:20260422T090007
CREATED:20250618T160136Z
LAST-MODIFIED:20250618T160136Z
UID:10005552-1774171800-1774179000@templeshalomnj.org
SUMMARY:Religious School
DESCRIPTION:
URL:https://templeshalomnj.org/event/religious-school/2026-03-22/
CATEGORIES:Religious School
END:VEVENT
BEGIN:VEVENT
DTSTART;TZID=America/New_York:20260322T120000
DTEND;TZID=America/New_York:20260322T133000
DTSTAMP:20260422T090007
CREATED:20250618T163637Z
LAST-MODIFIED:20250618T163637Z
UID:10005578-1774180800-1774186200@templeshalomnj.org
SUMMARY:Hebrew High School
DESCRIPTION:
URL:https://templeshalomnj.org/event/hebrew-high-school-2/2026-03-22/
CATEGORIES:Hebrew High School
END:VEVENT
BEGIN:VEVENT
DTSTART;TZID=America/New_York:20260322T120000
DTEND;TZID=America/New_York:20260322T133000
DTSTAMP:20260422T090007
CREATED:20250619T125538Z
LAST-MODIFIED:20250619T125538Z
UID:10005589-1774180800-1774186200@templeshalomnj.org
SUMMARY:Post-Confirmation Class
DESCRIPTION:
URL:https://templeshalomnj.org/event/post-confirmation-class-2/2026-03-22/
CATEGORIES:Post-Confirmation
END:VEVENT
BEGIN:VEVENT
DTSTART;TZID=America/New_York:20260323T160000
DTEND;TZID=America/New_York:20260323T180000
DTSTAMP:20260422T090007
CREATED:20250618T154019Z
LAST-MODIFIED:20250618T154235Z
UID:10005528-1774281600-1774288800@templeshalomnj.org
SUMMARY:Hebrew Enhancement
DESCRIPTION:
URL:https://templeshalomnj.org/event/hebrew-enhancement-50/2026-03-23/
CATEGORIES:Hebrew Enhancement
END:VEVENT
BEGIN:VEVENT
DTSTART;VALUE=DATE:20260327
DTEND;VALUE=DATE:20260330
DTSTAMP:20260422T090007
CREATED:20250530T205912Z
LAST-MODIFIED:20260328T201614Z
UID:10005417-1774569600-1774828799@templeshalomnj.org
SUMMARY:Post Confirmation Trip
DESCRIPTION:
URL:https://templeshalomnj.org/event/post-confirmation-trip-5/
CATEGORIES:Post-Confirmation
END:VEVENT
BEGIN:VEVENT
DTSTART;TZID=America/New_York:20260412T093000
DTEND;TZID=America/New_York:20260412T113000
DTSTAMP:20260422T090007
CREATED:20250617T185329Z
LAST-MODIFIED:20250617T185329Z
UID:10005498-1775986200-1775993400@templeshalomnj.org
SUMMARY:Camp Shalom
DESCRIPTION:
URL:https://templeshalomnj.org/event/camp-shalom-52/2026-04-12/
CATEGORIES:Camp Shalom
END:VEVENT
BEGIN:VEVENT
DTSTART;TZID=America/New_York:20260412T093000
DTEND;TZID=America/New_York:20260412T113000
DTSTAMP:20260422T090007
CREATED:20250618T160136Z
LAST-MODIFIED:20250618T160136Z
UID:10005553-1775986200-1775993400@templeshalomnj.org
SUMMARY:Religious School
DESCRIPTION:
URL:https://templeshalomnj.org/event/religious-school/2026-04-12/
CATEGORIES:Religious School
END:VEVENT
BEGIN:VEVENT
DTSTART;TZID=America/New_York:20260412T120000
DTEND;TZID=America/New_York:20260412T133000
DTSTAMP:20260422T090007
CREATED:20250618T163637Z
LAST-MODIFIED:20250618T163637Z
UID:10005579-1775995200-1776000600@templeshalomnj.org
SUMMARY:Hebrew High School
DESCRIPTION:
URL:https://templeshalomnj.org/event/hebrew-high-school-2/2026-04-12/
CATEGORIES:Hebrew High School
END:VEVENT
BEGIN:VEVENT
DTSTART;TZID=America/New_York:20260419T093000
DTEND;TZID=America/New_York:20260419T113000
DTSTAMP:20260422T090007
CREATED:20250618T160136Z
LAST-MODIFIED:20250618T160136Z
UID:10005554-1776591000-1776598200@templeshalomnj.org
SUMMARY:Religious School
DESCRIPTION:
URL:https://templeshalomnj.org/event/religious-school/2026-04-19/
CATEGORIES:Religious School
END:VEVENT
BEGIN:VEVENT
DTSTART;TZID=America/New_York:20260419T120000
DTEND;TZID=America/New_York:20260419T133000
DTSTAMP:20260422T090007
CREATED:20250618T163637Z
LAST-MODIFIED:20250618T163637Z
UID:10005580-1776600000-1776605400@templeshalomnj.org
SUMMARY:Hebrew High School
DESCRIPTION:
URL:https://templeshalomnj.org/event/hebrew-high-school-2/2026-04-19/
CATEGORIES:Hebrew High School
END:VEVENT
BEGIN:VEVENT
DTSTART;TZID=America/New_York:20260419T120000
DTEND;TZID=America/New_York:20260419T133000
DTSTAMP:20260422T090007
CREATED:20250619T125538Z
LAST-MODIFIED:20250619T125538Z
UID:10005590-1776600000-1776605400@templeshalomnj.org
SUMMARY:Post-Confirmation Class
DESCRIPTION:
URL:https://templeshalomnj.org/event/post-confirmation-class-2/2026-04-19/
CATEGORIES:Post-Confirmation
END:VEVENT
BEGIN:VEVENT
DTSTART;TZID=America/New_York:20260426T093000
DTEND;TZID=America/New_York:20260426T113000
DTSTAMP:20260422T090007
CREATED:20250617T185329Z
LAST-MODIFIED:20250617T185329Z
UID:10005499-1777195800-1777203000@templeshalomnj.org
SUMMARY:Camp Shalom
DESCRIPTION:
URL:https://templeshalomnj.org/event/camp-shalom-52/2026-04-26/
CATEGORIES:Camp Shalom
END:VEVENT
END:VCALENDAR